BEGIN:VCALENDAR
CALSCALE:GREGORIAN
VERSION:2.0
PRODID:-//Elixir ICalendar//Mobilizon 5.2.3//EN
BEGIN:VEVENT
ATTACH;FMTTYPE=image/jpeg:https://groups.animalrebellion.nl/media/753ab8942652f36fe811d711b9d9651a07c72442ec9e9777b4806fe48e537634.jpg?name=wereldproefdierendag%20protestmars.jpg
DESCRIPTION:Op zaterdag 25 April om 13:00 lopen we mee met de protestmars tegen dierproeven in Maastricht. Loop mee en laat zien dat dierproeven moeten stoppen! Join de signal groep voor alle details:  https://signal.group/#CjQKIL6LU4PuZSQ3YKNlO0zj-VRTlPBchwmxAQzK4knWK9cJEhAKdmi7qyUTpg1FXUlNJmTQ\n\n🌿\n\nOn Saturday\, April 25 at 1:00 PM\, we will be joining the protest march against animal testing in Maastricht. Walk with us and show everyone that animal experiments must stop! Join the Signal group for the details. https://signal.group/#CjQKIL6LU4PuZSQ3YKNlO0zj-VRTlPBchwmxAQzK4knWK9cJEhAKdmi7qyUTpg1FXUlNJmTQ\n\n
DTEND:20260425T204500Z
DTSTAMP:20260425T200725Z
DTSTART:20260425T110000Z
GEO:50.8514847;5.6906799999999995
LOCATION:Markt  6211 CH Maastricht Limburg Nederland
ORGANIZER:AR Stop Dierproeven - Stop Animal testing
STATUS:CONFIRMED
SUMMARY:Protestmars Maastricht Wereldproefdierendag
UID:feb91078-d683-41c7-843c-93d50c32fccf
URL:https://groups.animalrebellion.nl/events/feb91078-d683-41c7-843c-93d50c32fccf
END:VEVENT
END:VCALENDAR
